Workbook

Sheet Summary
A1: Neighbors Link Corp
A2: Actual vs. Budget: YTD April 2025
A3: Cash Basis
B4: YTD Actual | D4: YTD Budget | F4: Over (Under) Budget | H4: 2025 Approved Budget
A6: Individual Contributions | B6: =+Budget!B12 -> 263263.13 | D6: =+Budget!C12 -> 347335 | F6: =+B6-D6 -> -84071.87 | G6: Timing $200k Schwartz not yet rec'd; overall volume/amts up | H6: 550000
A7: Campaign | B7: =+Budget!B14+Budget!B15 -> 258250 | D7: =+Budget!C14+Budget!C15 -> 200250 | F7: =+B7-D7 -> 58000 | G7: Manocherian $100k (not in budget) | H7: 1800000
A8: Annual Appeal | B8: =+Budget!B18 -> 89008 | D8: =+Budget!C18 -> 89008 | F8: =+B8-D8 -> 0 | H8: 530000
A9: Estate Gifts | B9: =+Budget!B13 -> 0 | D9: =+Budget!C13 -> 0 | F9: =+B9-D9 -> 0 | H9: 82000
A10: Organizations/Matching | B10: =+Budget!B23+Budget!B19 -> 34606.88 | D10: =+Budget!C23+Budget!C19 -> 28314.17 | F10: =+B10-D10 -> 6292.71 | H10: 60000
A11: Foundations | B11: =+Budget!B25+Budget!B27 -> 903717.37 | D11: =+Budget!C25+Budget!C27 -> 664250 | F11: =+B11-D11 -> 239467.37 | G11: Timing -$175k early; Up for yr - 2 new grants $35k & addt'l $25k Hughes | H11: 1327375
A12: MAP Direct Client Distributions | B12: =+Budget!B26 -> 980525.54 | D12: =+Budget!C26 -> 972638.06 | F12: =+B12-D12 -> 7887.48 | H12: 1800000
A13: Government | B13: =+Budget!B28 -> 808503.29 | D13: =+Budget!C28 -> 1296317 | F13: =+B13-D13 -> -487813.68 | G13: Timing-Slow paying $260k ONA & $215k NYIC | H13: 3766455
A14: Program Income | B14: =+Budget!B39 -> 7910 | D14: =+Budget!C39 -> 12000 | F14: =+B14-D14 -> -4090 | H14: 39825
A15: Special Events-Spring Benefit | B15: =+Budget!B46 -> 193645.66 | D15: =+Budget!C46 -> 100000 | F15: =+B15-D15 -> 93645.66 | G15: Timing- Invitations just out but early ticket sales encouraging | H15: 600000
A16: Special Events-Fall Fundraiser | B16: =+Budget!B51 -> 0 | D16: =+Budget!C51 -> 0 | F16: =+B16-D16 -> 0 | H16: 80000
A17: Use of Space/Reimbursements | B17: =+Budget!B55 -> 407 | D17: =+Budget!C55 -> 0 | F17: =+B17-D17 -> 407 | H17: 0
A18: Interest/Other Income | B18: =+Budget!B278-Budget!B275 -> 229452.41 | D18: =+Budget!C278-Budget!C275 -> 113206.47 | F18: =+B18-D18 -> 116245.94 | G18: $196k int/div, $34k realized; excludes unrealized gains/losses | H18: 200000
A19: Prior Year Surplus/Misc Income | B19: =+Budget!B59 -> 5422.63 | D19: =+Budget!C59 -> 0 | F19: =+B19-D19 -> 5422.63 | H19: 0
A20: Total Revenue | B20: =SUM(B6:B19) -> 3774711.9 | D20: =SUM(D6:D19) -> 3823318.7 | F20: =+B20-D20 -> -48606.76 | H20: =SUM(H6:H19) -> 10835655
A21: Map Direct Client Distributions | B21: =-Budget!B26 -> -980525.54 | D21: =-Budget!C26 -> -972638.06 | F21: =+B21-D21 -> -7887.48 | H21: =-H12 -> -1800000
A22: Adjusted Revenue | B22: =SUM(B20:B21) -> 2794186.4 | D22: =SUM(D20:D21) -> 2850680.6 | F22: =+B22-D22 -> -56494.24 | G22: Adjusted Revenue $56k below budget | H22: =+H20+H21 -> 9035655
A24: Personnel Expenses:
A25: Salary and Payroll | B25: =+Budget!B141 -> 1804177.3 | D25: =+Budget!C141 -> 1821061.5 | F25: =+B25-D25 -> -16884.18 | G25: 3 new positions budgeted since Jan -two hired in March | H25: 5735747
A26: Payroll Taxes | B26: =+Budget!B144 -> 176950.26 | D26: =+Budget!C144 -> 161298.61 | F26: =+B26-D26 -> 15651.65 | H26: 458860
A27: Employee Benefits | B27: =+Budget!B154 -> 189703.49 | D27: =+Budget!C154 -> 196631.81 | F27: =+B27-D27 -> -6928.32 | H27: 586000
A28: Contract Program Services | B28: =+Budget!B157 -> 23958.6 | D28: =+Budget!C157 -> 20498.91 | F28: =+B28-D28 -> 3459.69 | H28: 61010
A29: Contract Admin. Services | B29: =+Budget!B163 -> 32443.23 | D29: =+Budget!C163 -> 34214.99 | F29: =+B29-D29 -> -1771.76 | H29: 109810
A31: Total Personnel Expenses | B31: =SUM(B25:B30) -> 2227232.9 | D31: =SUM(D25:D30) -> 2233705.8 | F31: =SUM(F25:F30) -> -6472.92 | G31: Personnel Expenses $6k under budget | H31: =SUM(H25:H30) -> 6951427
A33: Operating Expenses:
A34: Program | B34: =+Budget!B207-Budget!B204 -> 207364.19 | D34: =+Budget!C207-Budget!C204 -> 187360.94 | F34: =+B34-D34 -> 20003.25 | G34: Unbudgeted Legal Server software $27k | H34: 695850
A35: MAP Direct Client Distributions | B35: =+Budget!B204 -> 980525.54 | D35: =+Budget!C204 -> 972638.06 | F35: =+B35-D35 -> 7887.48 | H35: 1800000
A36: Lease | B36: =+Budget!B212 -> 87088.11 | D36: =+Budget!C212 -> 87223.41 | F36: =+B36-D36 -> -135.3 | H36: 345778
A37: Utilities | B37: =+Budget!B220 -> 33930.43 | D37: =+Budget!C220 -> 33607.78 | F37: =+B37-D37 -> 322.65 | H37: 92400
A38: Maintenance | B38: =+Budget!B226 -> 10407.31 | D38: =+Budget!C226 -> 10407.77 | F38: =+B38-D38 -> -0.46 | H38: 27500
A39: Capital Expenses | B39: =+Budget!B231 -> 665092.44 | D39: =+Budget!C231 -> 367161.62 | F39: =+B39-D39 -> 297930.82 | G39: Leasehold Imp. for new bldg over budget; offset by addt'l revenue funding | H39: 760500
A40: Office Supplies | B40: =+Budget!B232 -> 13805.22 | D40: =+Budget!C232 -> 12238.19 | F40: =+B40-D40 -> 1567.03 | H40: 45000
A41: Insurance | B41: =+Budget!B236 -> 12350.35 | D41: =+Budget!C236 -> 10601.65 | F41: =+B41-D41 -> 1748.7 | H41: 110000
A42: Marketing | B42: =+Budget!B241 -> 3058.46 | D42: =+Budget!C241 -> 3598.06 | F42: =+B42-D42 -> -539.6 | H42: 26000
A43: Fundraising | B43: =+Budget!B250 -> 38073.42 | D43: =+Budget!C250 -> 42610.9 | F43: =+B43-D43 -> -4537.48 | G43: Expenses for Spring event | H43: 207500
A44: Other Expenses | B44: =+Budget!B261 -> 98299.54 | D44: =+Budget!C261 -> 113036.5 | F44: =+B44-D44 -> -14736.96 | G44: Timing | H44: 337500
...

Sheet Statement of Activity
A1: Neighbors Link Corp.
A2: Statement of Activity by Month
A3: January - April, 2025
B5: Jan 2025 | C5: Feb 2025 | D5: Mar 2025 | E5: Apr 2025 | F5: Total
A6: Revenue
A7: 02-4 Contributions & support | F7: =(((B7)+(C7))+(D7))+(E7) -> 0
A8: 02-4000 Contributions | F8: =(((B8)+(C8))+(D8))+(E8) -> 0
A9: 02-4010 Donations | B9: =33335 -> 33335 | C9: =83951.13 -> 83951.13 | D9: =134305 -> 134305 | E9: =11672 -> 11672 | F9: =(((B9)+(C9))+(D9))+(E9) -> 263263.13
A10: Total 02-4000 Contributions | B10: =(B8)+(B9) -> 33335 | C10: =(C8)+(C9) -> 83951.13 | D10: =(D8)+(D9) -> 134305 | E10: =(E8)+(E9) -> 11672 | F10: =(((B10)+(C10))+(D10))+(E10) -> 263263.13
A11: 02-4120 Campaign | B11: =250 -> 250 | C11: =15000 -> 15000 | D11: =150000 -> 150000 | E11: =83000 -> 83000 | F11: =(((B11)+(C11))+(D11))+(E11) -> 248250
A12: 02-4130 Restricted Campaign | E12: =10000 -> 10000 | F12: =(((B12)+(C12))+(D12))+(E12) -> 10000
A13: 02-4200 Annual Appeal | B13: =89008 -> 89008 | F13: =(((B13)+(C13))+(D13))+(E13) -> 89008
A14: 02-4400 Matching funds | B14: =440 -> 440 | C14: =2900 -> 2900 | D14: =3146 -> 3146 | E14: =7644 -> 7644 | F14: =(((B14)+(C14))+(D14))+(E14) -> 14130
A15: 02-4500 Organizations | F15: =(((B15)+(C15))+(D15))+(E15) -> 0
A16: 02-4510 Faith organizations | B16: =4374.17 -> 4374.17 | C16: =2500 -> 2500 | D16: =3750 -> 3750 | E16: =6887.25 -> 6887.25 | F16: =(((B16)+(C16))+(D16))+(E16) -> 17511.42
A17: 02-4520 Community organizations | E17: =2965.46 -> 2965.46 | F17: =(((B17)+(C17))+(D17))+(E17) -> 2965.46
A18: Total 02-4500 Organizations | B18: =((B15)+(B16))+(B17) -> 4374.17 | C18: =((C15)+(C16))+(C17) -> 2500 | D18: =((D15)+(D16))+(D17) -> 3750 | E18: =((E15)+(E16))+(E17) -> 9852.71 | F18: =(((B18)+(C18))+(D18))+(E18) -> 20476.88
A19: 02-4600 Grants | F19: =(((B19)+(C19))+(D19))+(E19) -> 0
A20: 02-4610 Grants restricted | E20: =68717.37 -> 68717.37 | F20: =(((B20)+(C20))+(D20))+(E20) -> 68717.37
A21: 02-4616 OTDA MAP Grant Restricted | B21: =362675.06 -> 362675.06 | C21: =244733.75 -> 244733.75 | D21: =205108.9 -> 205108.9 | E21: =168007.83 -> 168007.83 | F21: =(((B21)+(C21))+(D21))+(E21) -> 980525.54
A22: 02-4620 Grants unrestricted | B22: =500000 -> 500000 | D22: =10000 -> 10000 | E22: =325000 -> 325000 | F22: =(((B22)+(C22))+(D22))+(E22) -> 835000
A23: 02-4650 Government grants | B23: =71981.97 -> 71981.97 | C23: =331756.71 -> 331756.71 | D23: =171858.88 -> 171858.88 | E23: =232905.73 -> 232905.73 | F23: =(((B23)+(C23))+(D23))+(E23) -> 808503.29
A24: Total 02-4600 Grants | B24: =((((B19)+(B20))+(B21))+(B22))+(B23) -> 934657.03 | C24: =((((C19)+(C20))+(C21))+(C22))+(C23) -> 576490.46 | D24: =((((D19)+(D20))+(D21))+(D22))+(D23) -> 386967.78 | E24: =((((E19)+(E20))+(E21))+(E22))+(E23) -> 794630.93 | F24: =(((B24)+(C24))+(D24))+(E24) -> 2692746.2
A25: Total 02-4 Contributions & support | B25: =(((((((B7)+(B10))+(B11))+(B12))+(B13))+(B14))+(B18))+(B24) -> 1062064.2 | C25: =(((((((C7)+(C10))+(C11))+(C12))+(C13))+(C14))+(C18))+(C24) -> 680841.59 | D25: =(((((((D7)+(D10))+(D11))+(D12))+(D13))+(D14))+(D18))+(D24) -> 678168.78 | E25: =(((((((E7)+(E10))+(E11))+(E12))+(E13))+(E14))+(E18))+(E24) -> 916799.64 | F25: =(((B25)+(C25))+(D25))+(E25) -> 3337874.2
A26: 02-5 Earned revenue | F26: =(((B26)+(C26))+(D26))+(E26) -> 0
A27: 02-5100 Program income | F27: =(((B27)+(C27))+(D27))+(E27) -> 0
A28: 02-5130 Learning Links | E28: =3530 -> 3530 | F28: =(((B28)+(C28))+(D28))+(E28) -> 3530
A29: 02-5131 ESL | C29: =1040 -> 1040 | E29: =195 -> 195 | F29: =(((B29)+(C29))+(D29))+(E29) -> 1235
A30: 02-5137 EcoClean | D30: =660 -> 660 | E30: =375 -> 375 | F30: =(((B30)+(C30))+(D30))+(E30) -> 1035
A31: 02-5190 Other Program Income | C31: =1345 -> 1345 | E31: =765 -> 765 | F31: =(((B31)+(C31))+(D31))+(E31) -> 2110
A32: Total 02-5100 Program income | B32: =((((B27)+(B28))+(B29))+(B30))+(B31) -> 0 | C32: =((((C27)+(C28))+(C29))+(C30))+(C31) -> 2385 | D32: =((((D27)+(D28))+(D29))+(D30))+(D31) -> 660 | E32: =((((E27)+(E28))+(E29))+(E30))+(E31) -> 4865 | F32: =(((B32)+(C32))+(D32))+(E32) -> 7910
A33: 02-5200 Special events | F33: =(((B33)+(C33))+(D33))+(E33) -> 0
A34: 02-5210 Spring Benefit | F34: =(((B34)+(C34))+(D34))+(E34) -> 0
A35: 02-5211 Sponsors | D35: =52370.58 -> 52370.58 | E35: =88255.08 -> 88255.08 | F35: =(((B35)+(C35))+(D35))+(E35) -> 140625.66
A36: 02-5212 Tickets | E36: =10750 -> 10750 | F36: =(((B36)+(C36))+(D36))+(E36) -> 10750
A37: 02-5213 Contributions | D37: =8500 -> 8500 | E37: =33770 -> 33770 | F37: =(((B37)+(C37))+(D37))+(E37) -> 42270
A38: Total 02-5210 Spring Benefit | B38: =(((B34)+(B35))+(B36))+(B37) -> 0 | C38: =(((C34)+(C35))+(C36))+(C37) -> 0 | D38: =(((D34)+(D35))+(D36))+(D37) -> 60870.58 | E38: =(((E34)+(E35))+(E36))+(E37) -> 132775.08 | F38: =(((B38)+(C38))+(D38))+(E38) -> 193645.66
A39: Total 02-5200 Special events | B39: =(B33)+(B38) -> 0 | C39: =(C33)+(C38) -> 0 | D39: =(D33)+(D38) -> 60870.58 | E39: =(E33)+(E38) -> 132775.08 | F39: =(((B39)+(C39))+(D39))+(E39) -> 193645.66
A40: 02-5400 Rental income | F40: =(((B40)+(C40))+(D40))+(E40) -> 0
A41: 02-5420 Chairs & tables | B41: =98 -> 98 | D41: =80 -> 80 | E41: =229 -> 229 | F41: =(((B41)+(C41))+(D41))+(E41) -> 407
...

Sheet Prior Year
A1: Neighbors Link Corp.
A2: Statement of Activity Comparison
A3: January - April, 2025
B5: Total
B6: Jan - Apr, 2025 | C6: Jan - Apr, 2024 (PY) | D6: Change | E6: % Change
A7: Revenue
A8: 02-4 Contributions & support | D8: =(B8)-(C8) -> 0 | E8: =IF(ABS((C8))=0,"",((B8)-(C8))/(ABS((C8))))
A9: 02-4000 Contributions | D9: =(B9)-(C9) -> 0 | E9: =IF(ABS((C9))=0,"",((B9)-(C9))/(ABS((C9))))
A10: 02-4010 Donations | B10: =263263.13 -> 263263.13 | C10: =336079.92 -> 336079.92 | D10: =(B10)-(C10) -> -72816.79 | E10: =IF(ABS((C10))=0,"",((B10)-(C10))/(ABS((C10)))) -> -0.2166651
A11: 02-4040 Restricted Donations | C11: =-885 -> -885 | D11: =(B11)-(C11) -> 885 | E11: =IF(ABS((C11))=0,"",((B11)-(C11))/(ABS((C11)))) -> 1
A12: Total 02-4000 Contributions | B12: =((B9)+(B10))+(B11) -> 263263.13 | C12: =((C9)+(C10))+(C11) -> 335194.92 | D12: =(B12)-(C12) -> -71931.79 | E12: =IF(ABS((C12))=0,"",((B12)-(C12))/(ABS((C12)))) -> -0.2145969
A13: 02-4115 Estate Gifts | C13: =81134 -> 81134 | D13: =(B13)-(C13) -> -81134 | E13: =IF(ABS((C13))=0,"",((B13)-(C13))/(ABS((C13)))) -> -1
A14: 02-4120 Campaign | B14: =248250 -> 248250 | C14: =339000 -> 339000 | D14: =(B14)-(C14) -> -90750 | E14: =IF(ABS((C14))=0,"",((B14)-(C14))/(ABS((C14)))) -> -0.26769912
A15: 02-4130 Restricted Campaign | B15: =10000 -> 10000 | C15: =92250 -> 92250 | D15: =(B15)-(C15) -> -82250 | E15: =IF(ABS((C15))=0,"",((B15)-(C15))/(ABS((C15)))) -> -0.89159892
A16: 02-4200 Annual Appeal | B16: =89008 -> 89008 | C16: =30740 -> 30740 | D16: =(B16)-(C16) -> 58268 | E16: =IF(ABS((C16))=0,"",((B16)-(C16))/(ABS((C16)))) -> 1.8955107
A17: 02-4400 Matching funds | B17: =14130 -> 14130 | C17: =20800 -> 20800 | D17: =(B17)-(C17) -> -6670 | E17: =IF(ABS((C17))=0,"",((B17)-(C17))/(ABS((C17)))) -> -0.32067308
A18: 02-4500 Organizations | D18: =(B18)-(C18) -> 0 | E18: =IF(ABS((C18))=0,"",((B18)-(C18))/(ABS((C18))))
A19: 02-4510 Faith organizations | B19: =17511.42 -> 17511.42 | C19: =8270.46 -> 8270.46 | D19: =(B19)-(C19) -> 9240.96 | E19: =IF(ABS((C19))=0,"",((B19)-(C19))/(ABS((C19)))) -> 1.1173453
A20: 02-4520 Community organizations | B20: =2965.46 -> 2965.46 | C20: =2500 -> 2500 | D20: =(B20)-(C20) -> 465.46 | E20: =IF(ABS((C20))=0,"",((B20)-(C20))/(ABS((C20)))) -> 0.186184
A21: Total 02-4500 Organizations | B21: =((B18)+(B19))+(B20) -> 20476.88 | C21: =((C18)+(C19))+(C20) -> 10770.46 | D21: =(B21)-(C21) -> 9706.42 | E21: =IF(ABS((C21))=0,"",((B21)-(C21))/(ABS((C21)))) -> 0.90120756
A22: 02-4600 Grants | D22: =(B22)-(C22) -> 0 | E22: =IF(ABS((C22))=0,"",((B22)-(C22))/(ABS((C22))))
A23: 02-4610 Grants restricted | B23: =68717.37 -> 68717.37 | C23: =92637.7 -> 92637.7 | D23: =(B23)-(C23) -> -23920.33 | E23: =IF(ABS((C23))=0,"",((B23)-(C23))/(ABS((C23)))) -> -0.25821377
A24: 02-4616 OTDA MAP Grant Restricted | B24: =980525.54 -> 980525.54 | C24: =1081362.09 -> 1081362.1 | D24: =(B24)-(C24) -> -100836.55 | E24: =IF(ABS((C24))=0,"",((B24)-(C24))/(ABS((C24)))) -> -0.09324957
A25: 02-4620 Grants unrestricted | B25: =835000 -> 835000 | D25: =(B25)-(C25) -> 835000 | E25: =IF(ABS((C25))=0,"",((B25)-(C25))/(ABS((C25))))
A26: 02-4650 Government grants | B26: =808503.29 -> 808503.29 | C26: =356160.32 -> 356160.32 | D26: =(B26)-(C26) -> 452342.97 | E26: =IF(ABS((C26))=0,"",((B26)-(C26))/(ABS((C26)))) -> 1.2700544
A27: Total 02-4600 Grants | B27: =((((B22)+(B23))+(B24))+(B25))+(B26) -> 2692746.2 | C27: =((((C22)+(C23))+(C24))+(C25))+(C26) -> 1530160.1 | D27: =(B27)-(C27) -> 1162586.1 | E27: =IF(ABS((C27))=0,"",((B27)-(C27))/(ABS((C27)))) -> 0.75978068
A28: Total 02-4 Contributions & support | B28: =((((((((B8)+(B12))+(B13))+(B14))+(B15))+(B16))+(B17))+(B21))+(B27) -> 3337874.2 | C28: =((((((((C8)+(C12))+(C13))+(C14))+(C15))+(C16))+(C17))+(C21))+(C27) -> 2440049.5 | D28: =(B28)-(C28) -> 897824.72 | E28: =IF(ABS((C28))=0,"",((B28)-(C28))/(ABS((C28)))) -> 0.36795349
A29: 02-5 Earned revenue | D29: =(B29)-(C29) -> 0 | E29: =IF(ABS((C29))=0,"",((B29)-(C29))/(ABS((C29))))
A30: 02-5100 Program income | D30: =(B30)-(C30) -> 0 | E30: =IF(ABS((C30))=0,"",((B30)-(C30))/(ABS((C30))))
A31: 02-5130 Learning Links | B31: =3530 -> 3530 | C31: =12633 -> 12633 | D31: =(B31)-(C31) -> -9103 | E31: =IF(ABS((C31))=0,"",((B31)-(C31))/(ABS((C31)))) -> -0.7205731
A32: 02-5134 Summer Links | C32: =250 -> 250 | D32: =(B32)-(C32) -> -250 | E32: =IF(ABS((C32))=0,"",((B32)-(C32))/(ABS((C32)))) -> -1
A33: Total 02-5130 Learning Links | B33: =(B31)+(B32) -> 3530 | C33: =(C31)+(C32) -> 12883 | D33: =(B33)-(C33) -> -9353 | E33: =IF(ABS((C33))=0,"",((B33)-(C33))/(ABS((C33)))) -> -0.7259955
A34: 02-5131 ESL | B34: =1235 -> 1235 | C34: =975 -> 975 | D34: =(B34)-(C34) -> 260 | E34: =IF(ABS((C34))=0,"",((B34)-(C34))/(ABS((C34)))) -> 0.26666667
A35: 02-5137 EcoClean | B35: =1035 -> 1035 | D35: =(B35)-(C35) -> 1035 | E35: =IF(ABS((C35))=0,"",((B35)-(C35))/(ABS((C35))))
A36: 02-5190 Other Program Income | B36: =2110 -> 2110 | D36: =(B36)-(C36) -> 2110 | E36: =IF(ABS((C36))=0,"",((B36)-(C36))/(ABS((C36))))
A37: Total 02-5100 Program income | B37: =((((B30)+(B33))+(B34))+(B35))+(B36) -> 7910 | C37: =((((C30)+(C33))+(C34))+(C35))+(C36) -> 13858 | D37: =(B37)-(C37) -> -5948 | E37: =IF(ABS((C37))=0,"",((B37)-(C37))/(ABS((C37)))) -> -0.42921056
A38: 02-5200 Special events | D38: =(B38)-(C38) -> 0 | E38: =IF(ABS((C38))=0,"",((B38)-(C38))/(ABS((C38))))
A39: 02-5210 Spring Benefit | D39: =(B39)-(C39) -> 0 | E39: =IF(ABS((C39))=0,"",((B39)-(C39))/(ABS((C39))))
A40: 02-5211 Sponsors | B40: =140625.66 -> 140625.66 | C40: =218468.32 -> 218468.32 | D40: =(B40)-(C40) -> -77842.66 | E40: =IF(ABS((C40))=0,"",((B40)-(C40))/(ABS((C40)))) -> -0.35631097
A41: 02-5212 Tickets | B41: =10750 -> 10750 | C41: =49200 -> 49200 | D41: =(B41)-(C41) -> -38450 | E41: =IF(ABS((C41))=0,"",((B41)-(C41))/(ABS((C41)))) -> -0.78150407
...

Sheet Cash Flow
A1: Neighbors Link Corp.
A2: Statement of Cash Flows
A3: January - April, 2025
B5: Total
A6: OPERATING ACTIVITIES
A7: Net Revenue | B7: =-669751.83 -> -669751.83
A8: Adjustments to reconcile Net Revenue to Net Cash provided by operations:
A9: 02-1200 Grants Receivable | B9: =491861.72 -> 491861.72
A10: Chase Visa | B10: =0 -> 0
A11: 02-2020 Accrued Expenses | B11: =0 -> 0
A12: Total Adjustments to reconcile Net Revenue to Net Cash provided by operations: | B12: =(((B8)+(B9))+(B10))+(B11) -> 491861.72
A13: Net cash provided by operating activities | B13: =(B7)+(B12) -> -177890.11
A14: FINANCING ACTIVITIES
A15: 02-2706 OTDA MAP Grant Deferred Revenue | B15: =1516.64 -> 1516.64
A16: 02-2710 Payable to ReSET | B16: =13776.84 -> 13776.84
A17: Net cash provided by financing activities | B17: =(B15)+(B16) -> 15293.48
A18: Net cash increase for period | B18: =(B13)+(B17) -> -162596.63
A19: Cash at beginning of period | B19: =10449150.4 -> 10449150
A20: Cash at end of period | B20: =(B18)+(B19) -> 10286554
A24: Tuesday, May 06, 2025 02:00:32 PM GMT-7

Sheet Statement of Financial Position
A1: Neighbors Link Corp.
A2: Statement of Financial Position
A3: As of April 30, 2025
B5: Total
A6: ASSETS
A7: Current Assets
A8: Bank Accounts
A9: 02-1000 Cash & equivalents
A10: 02-1010 TD Bank accounts
A11: 02-1011 TD Checking | B11: =781668.96 -> 781668.96
A12: 02-1012 TD Money Market | B12: =52278 -> 52278
A13: 02-1013 TD Checking Network | B13: =0 -> 0
A14: 02-1014 TD Bank- ReSet Acct | B14: =0 -> 0
A15: Total 02-1010 TD Bank accounts | B15: =((((B10)+(B11))+(B12))+(B13))+(B14) -> 833946.96
A16: 02-1020 Chase accounts
A17: 02-1021 BusinessPlus Checking | B17: =250 -> 250
A18: 02-1022 Business High Yield Savings | B18: =0 -> 0
A19: 02-1025 Chase/CD | B19: =266704.27 -> 266704.27
A20: Total 02-1020 Chase accounts | B20: =(((B16)+(B17))+(B18))+(B19) -> 266954.27
A21: 02-1030 San Antonio Bank Pre-funding Acct | B21: =14267.27 -> 14267.27
A22: 02-1040 Bank of American Checking | B22: =0 -> 0
A23: 02-1070 Schwab Accounts
A24: 02-1071 Schwab - Moore Account 1309-0708 | B24: =297612.56 -> 297612.56
A25: 02-1072 Schwab No Fee Account 8086-6714 | B25: =0 -> 0
A26: 02-1073 Schwab Advisory Account 3615-9605 | B26: =2731954.75 -> 2731954.8
A27: 02-1074 Schwab - Benestar 6600-3230 | B27: =209220.74 -> 209220.74
A28: 02-1075 Schwab - GMAS 7637-0541 | B28: =322750.12 -> 322750.12
A29: 02-1076 Moore Fund- GMAS 8973-6111 | B29: =125268.52 -> 125268.52
A30: 02-1077 Moore -Benestar 4364-4397 | B30: =75758.21 -> 75758.21
A31: 02-1078 Schwab Cash and Money Market Balances | B31: =0 -> 0
A32: 02-1079 Unrealized Gains/Losses on Investments | B32: =0 -> 0
A33: 02-1080 Schwab Account ending 1296 | B33: =5179302.41 -> 5179302.4
A34: 02-1081 Schwab ReSET Acct 171 | B34: =229517.96 -> 229517.96
A35: Total 02-1070 Schwab Accounts | B35: =(((((((((((B23)+(B24))+(B25))+(B26))+(B27))+(B28))+(B29))+(B30))+(B31))+(B32))+(B33))+(B34) -> 9171385.3
A36: 02-1090 Merrill Lynch accounts
A37: 02-1091 Merrill Lynch Money Market | B37: =0 -> 0
A38: 02-1092 Merrill Lynch CD Ladder | B38: =0 -> 0
A39: 02-1093 Merrill Lynch Equities | B39: =0 -> 0
A40: Total 02-1090 Merrill Lynch accounts | B40: =(((B36)+(B37))+(B38))+(B39) -> 0
A41: 02-1099 Undeposited Funds. | B41: =0 -> 0
...

Sheet Budget
A1: Neighbors Link Corp.
A2: Budget vs. Actuals: Budget_FY25_P&L - FY25 P&L Classes
A3: January - April, 2025
B5: Total
B6: Actual | C6: Budget | D6: over Budget | E6: % of Budget
A7: Revenue
A8: 02-4 Contributions & support | D8: =(B8)-(C8) -> 0 | E8: =IF(C8=0,"",(B8)/(C8))
A9: 02-4000 Contributions | D9: =(B9)-(C9) -> 0 | E9: =IF(C9=0,"",(B9)/(C9))
A10: 02-4010 Donations | B10: =263263.13 -> 263263.13 | C10: =347335 -> 347335 | D10: =(B10)-(C10) -> -84071.87 | E10: =IF(C10=0,"",(B10)/(C10)) -> 0.75795163
A11: 02-4040 Restricted Donations | C11: =0 -> 0 | D11: =(B11)-(C11) -> 0 | E11: =IF(C11=0,"",(B11)/(C11))
A12: Total 02-4000 Contributions | B12: =((B9)+(B10))+(B11) -> 263263.13 | C12: =((C9)+(C10))+(C11) -> 347335 | D12: =(B12)-(C12) -> -84071.87 | E12: =IF(C12=0,"",(B12)/(C12)) -> 0.75795163
A13: 02-4110 Restricted Estate Gifts | C13: =0 -> 0 | D13: =(B13)-(C13) -> 0 | E13: =IF(C13=0,"",(B13)/(C13))
A14: 02-4120 Campaign | B14: =248250 -> 248250 | C14: =200250 -> 200250 | D14: =(B14)-(C14) -> 48000 | E14: =IF(C14=0,"",(B14)/(C14)) -> 1.2397004
A15: 02-4130 Restricted Campaign | B15: =10000 -> 10000 | D15: =(B15)-(C15) -> 10000 | E15: =IF(C15=0,"",(B15)/(C15))
A16: 02-4200 Annual Appeal | B16: =89008 -> 89008 | D16: =(B16)-(C16) -> 89008 | E16: =IF(C16=0,"",(B16)/(C16))
A17: 02-4210 Prior year appeal | C17: =89008 -> 89008 | D17: =(B17)-(C17) -> -89008 | E17: =IF(C17=0,"",(B17)/(C17)) -> 0
A18: Total 02-4200 Annual Appeal | B18: =(B16)+(B17) -> 89008 | C18: =(C16)+(C17) -> 89008 | D18: =(B18)-(C18) -> 0 | E18: =IF(C18=0,"",(B18)/(C18)) -> 1
A19: 02-4400 Matching funds | B19: =14130 -> 14130 | C19: =17940 -> 17940 | D19: =(B19)-(C19) -> -3810 | E19: =IF(C19=0,"",(B19)/(C19)) -> 0.78762542
A20: 02-4500 Organizations | D20: =(B20)-(C20) -> 0 | E20: =IF(C20=0,"",(B20)/(C20))
A21: 02-4510 Faith organizations | B21: =17511.42 -> 17511.42 | C21: =10374.17 -> 10374.17 | D21: =(B21)-(C21) -> 7137.25 | E21: =IF(C21=0,"",(B21)/(C21)) -> 1.6879827
A22: 02-4520 Community organizations | B22: =2965.46 -> 2965.46 | C22: =0 -> 0 | D22: =(B22)-(C22) -> 2965.46 | E22: =IF(C22=0,"",(B22)/(C22))
A23: Total 02-4500 Organizations | B23: =((B20)+(B21))+(B22) -> 20476.88 | C23: =((C20)+(C21))+(C22) -> 10374.17 | D23: =(B23)-(C23) -> 10102.71 | E23: =IF(C23=0,"",(B23)/(C23)) -> 1.9738331
A24: 02-4600 Grants | D24: =(B24)-(C24) -> 0 | E24: =IF(C24=0,"",(B24)/(C24))
A25: 02-4610 Grants restricted | B25: =68717.37 -> 68717.37 | D25: =(B25)-(C25) -> 68717.37 | E25: =IF(C25=0,"",(B25)/(C25))
A26: 02-4616 OTDA MAP Grant Restricted | B26: =980525.54 -> 980525.54 | C26: =972638.06 -> 972638.06 | D26: =(B26)-(C26) -> 7887.48 | E26: =IF(C26=0,"",(B26)/(C26)) -> 1.0081094
A27: 02-4620 Grants unrestricted | B27: =835000 -> 835000 | C27: =664250 -> 664250 | D27: =(B27)-(C27) -> 170750 | E27: =IF(C27=0,"",(B27)/(C27)) -> 1.2570568
A28: 02-4650 Government grants | B28: =808503.29 -> 808503.29 | C28: =1296316.97 -> 1296317 | D28: =(B28)-(C28) -> -487813.68 | E28: =IF(C28=0,"",(B28)/(C28)) -> 0.62369259
A29: Total 02-4600 Grants | B29: =((((B24)+(B25))+(B26))+(B27))+(B28) -> 2692746.2 | C29: =((((C24)+(C25))+(C26))+(C27))+(C28) -> 2933205 | D29: =(B29)-(C29) -> -240458.83 | E29: =IF(C29=0,"",(B29)/(C29)) -> 0.91802181
A30: Total 02-4 Contributions & support | B30: =((((((((B8)+(B12))+(B13))+(B14))+(B15))+(B18))+(B19))+(B23))+(B29) -> 3337874.2 | C30: =((((((((C8)+(C12))+(C13))+(C14))+(C15))+(C18))+(C19))+(C23))+(C29) -> 3598112.2 | D30: =(B30)-(C30) -> -260237.99 | E30: =IF(C30=0,"",(B30)/(C30)) -> 0.92767374
A31: 02-5 Earned revenue | D31: =(B31)-(C31) -> 0 | E31: =IF(C31=0,"",(B31)/(C31))
A32: 02-5100 Program income | D32: =(B32)-(C32) -> 0 | E32: =IF(C32=0,"",(B32)/(C32))
A33: 02-5130 Learning Links | B33: =3530 -> 3530 | C33: =10000 -> 10000 | D33: =(B33)-(C33) -> -6470 | E33: =IF(C33=0,"",(B33)/(C33)) -> 0.353
A34: 02-5134 Summer Links | C34: =0 -> 0 | D34: =(B34)-(C34) -> 0 | E34: =IF(C34=0,"",(B34)/(C34))
A35: Total 02-5130 Learning Links | B35: =(B33)+(B34) -> 3530 | C35: =(C33)+(C34) -> 10000 | D35: =(B35)-(C35) -> -6470 | E35: =IF(C35=0,"",(B35)/(C35)) -> 0.353
A36: 02-5131 ESL | B36: =1235 -> 1235 | C36: =2000 -> 2000 | D36: =(B36)-(C36) -> -765 | E36: =IF(C36=0,"",(B36)/(C36)) -> 0.6175
A37: 02-5137 EcoClean | B37: =1035 -> 1035 | D37: =(B37)-(C37) -> 1035 | E37: =IF(C37=0,"",(B37)/(C37))
A38: 02-5190 Other Program Income | B38: =2110 -> 2110 | D38: =(B38)-(C38) -> 2110 | E38: =IF(C38=0,"",(B38)/(C38))
A39: Total 02-5100 Program income | B39: =((((B32)+(B35))+(B36))+(B37))+(B38) -> 7910 | C39: =((((C32)+(C35))+(C36))+(C37))+(C38) -> 12000 | D39: =(B39)-(C39) -> -4090 | E39: =IF(C39=0,"",(B39)/(C39)) -> 0.65916667
A40: 02-5200 Special events | D40: =(B40)-(C40) -> 0 | E40: =IF(C40=0,"",(B40)/(C40))
A41: 02-5210 Spring Benefit | D41: =(B41)-(C41) -> 0 | E41: =IF(C41=0,"",(B41)/(C41))
...
